BEGIN:VCALENDAR
VERSION:2.0
PRODID:-//NetAuktion//NONSGML NetAuktion//SV
METHOD:PUBLISH
BEGIN:VEVENT
UID:20260421T104600-1633874566-netauktion.se
DTSTAMP:20260421T104600
DTSTART:20170425T021900
DTEND:20170425T022200
SUMMARY:Netauktion objekt 2981-082 Auktionspåminnelse
DESCRIPTION:Länk till objektet du var intresserad av: https://staging.netauktion.se/auktion/produkt/tapetmaskin-tapetbord-1
END:VEVENT
END:VCALENDAR
