BEGIN:VCALENDAR
VERSION:2.0
PRODID:-//NetAuktion//NONSGML NetAuktion//SV
METHOD:PUBLISH
BEGIN:VEVENT
UID:20260421T104604-68402108-netauktion.se
DTSTAMP:20260421T104604
DTSTART:20170425T023000
DTEND:20170425T023300
SUMMARY:Netauktion objekt 2981-084 Auktionspåminnelse
DESCRIPTION:Länk till objektet du var intresserad av: https://staging.netauktion.se/auktion/produkt/maskinhall-200kvm-ob-wiik
END:VEVENT
END:VCALENDAR
