BEGIN:VCALENDAR
VERSION:2.0
PRODID:-//NetAuktion//NONSGML NetAuktion//SV
METHOD:PUBLISH
BEGIN:VEVENT
UID:20260421T103032-2091597517-netauktion.se
DTSTAMP:20260421T103032
DTSTART:20170425T022300
DTEND:20170425T022600
SUMMARY:Netauktion objekt 2981-085 Auktionspåminnelse
DESCRIPTION:Länk till objektet du var intresserad av: https://staging.netauktion.se/auktion/produkt/gravmaskin-komatsu-pc-45r
END:VEVENT
END:VCALENDAR
