BEGIN:VCALENDAR
VERSION:2.0
PRODID:-//NetAuktion//NONSGML NetAuktion//SV
METHOD:PUBLISH
BEGIN:VEVENT
UID:20260421T104615-845141591-netauktion.se
DTSTAMP:20260421T104615
DTSTART:20170425T022200
DTEND:20170425T022500
SUMMARY:Netauktion objekt 2981-086 Auktionspåminnelse
DESCRIPTION:Länk till objektet du var intresserad av: https://staging.netauktion.se/auktion/produkt/minigravare-hanix-h15b-serienr-h1550154
END:VEVENT
END:VCALENDAR
