BEGIN:VCALENDAR
VERSION:2.0
PRODID:-//NetAuktion//NONSGML NetAuktion//SV
METHOD:PUBLISH
BEGIN:VEVENT
UID:20260421T103127-110136596-netauktion.se
DTSTAMP:20260421T103127
DTSTART:20170425T022000
DTEND:20170425T022300
SUMMARY:Netauktion objekt 2981-089 Auktionspåminnelse
DESCRIPTION:Länk till objektet du var intresserad av: https://staging.netauktion.se/auktion/produkt/byggcontainer-med-oppningsbar-langsida-20-fot
END:VEVENT
END:VCALENDAR
