BEGIN:VCALENDAR
VERSION:2.0
PRODID:-//NetAuktion//NONSGML NetAuktion//SV
METHOD:PUBLISH
BEGIN:VEVENT
UID:20260421T103237-1270423504-netauktion.se
DTSTAMP:20260421T103237
DTSTART:20170428T005700
DTEND:20170428T010000
SUMMARY:Netauktion objekt 2991-066 Auktionspåminnelse
DESCRIPTION:Länk till objektet du var intresserad av: https://staging.netauktion.se/auktion/produkt/vaskor-med-andstycken
END:VEVENT
END:VCALENDAR
