BEGIN:VCALENDAR
VERSION:2.0
PRODID:-//NetAuktion//NONSGML NetAuktion//SV
METHOD:PUBLISH
BEGIN:VEVENT
UID:20260421T104533-1546778342-netauktion.se
DTSTAMP:20260421T104533
DTSTART:20170428T015500
DTEND:20170428T015800
SUMMARY:Netauktion objekt 2971-004 Auktionspåminnelse
DESCRIPTION:Länk till objektet du var intresserad av: https://staging.netauktion.se/auktion/produkt/hastvagn-5
END:VEVENT
END:VCALENDAR
