BEGIN:VCALENDAR
VERSION:2.0
PRODID:-//NetAuktion//NONSGML NetAuktion//SV
METHOD:PUBLISH
BEGIN:VEVENT
UID:20260421T104607-975501739-netauktion.se
DTSTAMP:20260421T104607
DTSTART:20080919T012700
DTEND:20080919T013000
SUMMARY:Netauktion objekt 0050-007 Auktionspåminnelse
DESCRIPTION:Länk till objektet du var intresserad av: https://staging.netauktion.se/auktion/produkt/barbar-dator-hp-pavilion-dv6000
END:VEVENT
END:VCALENDAR
