BEGIN:VCALENDAR
VERSION:2.0
PRODID:-//NetAuktion//NONSGML NetAuktion//SV
METHOD:PUBLISH
BEGIN:VEVENT
UID:20260421T102839-1494319320-netauktion.se
DTSTAMP:20260421T102839
DTSTART:20080829T011400
DTEND:20080829T011700
SUMMARY:Netauktion objekt 0004-176 Auktionspåminnelse
DESCRIPTION:Länk till objektet du var intresserad av: https://staging.netauktion.se/auktion/produkt/faxar-skrivare-scanners-mm
END:VEVENT
END:VCALENDAR
