BEGIN:VCALENDAR
VERSION:2.0
PRODID:-//NetAuktion//NONSGML NetAuktion//SV
METHOD:PUBLISH
BEGIN:VEVENT
UID:20260421T104618-1499145532-netauktion.se
DTSTAMP:20260421T104618
DTSTART:20170530T050700
DTEND:20170530T051000
SUMMARY:Netauktion objekt 3001-015 Auktionspåminnelse
DESCRIPTION:Länk till objektet du var intresserad av: https://staging.netauktion.se/auktion/produkt/blu-raydvd-pioneer-demo
END:VEVENT
END:VCALENDAR
