BEGIN:VCALENDAR
VERSION:2.0
PRODID:-//NetAuktion//NONSGML NetAuktion//SV
METHOD:PUBLISH
BEGIN:VEVENT
UID:20260421T102851-1827221626-netauktion.se
DTSTAMP:20260421T102851
DTSTART:20080829T012400
DTEND:20080829T012700
SUMMARY:Netauktion objekt 0082-002 Auktionspåminnelse
DESCRIPTION:Länk till objektet du var intresserad av: https://staging.netauktion.se/auktion/produkt/pallstall-galvat-7-sektioner
END:VEVENT
END:VCALENDAR
