BEGIN:VCALENDAR
VERSION:2.0
PRODID:-//NetAuktion//NONSGML NetAuktion//SV
METHOD:PUBLISH
BEGIN:VEVENT
UID:20260421T104635-1713945438-netauktion.se
DTSTAMP:20260421T104635
DTSTART:20170530T050700
DTEND:20170530T051000
SUMMARY:Netauktion objekt 3001-053 Auktionspåminnelse
DESCRIPTION:Länk till objektet du var intresserad av: https://staging.netauktion.se/auktion/produkt/skivspelare-lenco-demo
END:VEVENT
END:VCALENDAR
