BEGIN:VCALENDAR
VERSION:2.0
PRODID:-//NetAuktion//NONSGML NetAuktion//SV
METHOD:PUBLISH
BEGIN:VEVENT
UID:20260421T104535-1433426257-netauktion.se
DTSTAMP:20260421T104535
DTSTART:20170530T051000
DTEND:20170530T051300
SUMMARY:Netauktion objekt 3001-161 Auktionspåminnelse
DESCRIPTION:Länk till objektet du var intresserad av: https://staging.netauktion.se/auktion/produkt/2-skivspelare-ion-pure-lp-demo
END:VEVENT
END:VCALENDAR
