BEGIN:VCALENDAR
VERSION:2.0
PRODID:-//NetAuktion//NONSGML NetAuktion//SV
METHOD:PUBLISH
BEGIN:VEVENT
UID:20260421T104602-1443649276-netauktion.se
DTSTAMP:20260421T104602
DTSTART:20170530T051100
DTEND:20170530T051400
SUMMARY:Netauktion objekt 3001-162 Auktionspåminnelse
DESCRIPTION:Länk till objektet du var intresserad av: https://staging.netauktion.se/auktion/produkt/panasonic-blu-raydvd-dmp-bdt-110-demo
END:VEVENT
END:VCALENDAR
