BEGIN:VCALENDAR
VERSION:2.0
PRODID:-//NetAuktion//NONSGML NetAuktion//SV
METHOD:PUBLISH
BEGIN:VEVENT
UID:20260421T103004-1401158234-netauktion.se
DTSTAMP:20260421T103004
DTSTART:20170530T045800
DTEND:20170530T050100
SUMMARY:Netauktion objekt 3001-182 Auktionspåminnelse
DESCRIPTION:Länk till objektet du var intresserad av: https://staging.netauktion.se/auktion/produkt/mobiltelefon-dewalt
END:VEVENT
END:VCALENDAR
