BEGIN:VCALENDAR
VERSION:2.0
PRODID:-//NetAuktion//NONSGML NetAuktion//SV
METHOD:PUBLISH
BEGIN:VEVENT
UID:20260421T104453-2109466702-netauktion.se
DTSTAMP:20260421T104453
DTSTART:20170530T050000
DTEND:20170530T050300
SUMMARY:Netauktion objekt 3001-185 Auktionspåminnelse
DESCRIPTION:Länk till objektet du var intresserad av: https://staging.netauktion.se/auktion/produkt/2st-tradlosa-telefoner-panasonic-2
END:VEVENT
END:VCALENDAR
