BEGIN:VCALENDAR
VERSION:2.0
PRODID:-//NetAuktion//NONSGML NetAuktion//SV
METHOD:PUBLISH
BEGIN:VEVENT
UID:20260421T104452-965697844-netauktion.se
DTSTAMP:20260421T104452
DTSTART:20170731T014800
DTEND:20170731T015100
SUMMARY:Netauktion objekt 2945-063 Auktionspåminnelse
DESCRIPTION:Länk till objektet du var intresserad av: https://staging.netauktion.se/auktion/produkt/tavla-otydlig-signatur-7
END:VEVENT
END:VCALENDAR
