BEGIN:VCALENDAR
VERSION:2.0
PRODID:-//NetAuktion//NONSGML NetAuktion//SV
METHOD:PUBLISH
BEGIN:VEVENT
UID:20260421T102932-353218190-netauktion.se
DTSTAMP:20260421T102932
DTSTART:20170929T055700
DTEND:20170929T060000
SUMMARY:Netauktion objekt 2838-026 Auktionspåminnelse
DESCRIPTION:Länk till objektet du var intresserad av: https://staging.netauktion.se/auktion/produkt/bensindriven-vedklyv-for-atv-keeway
END:VEVENT
END:VCALENDAR
