BEGIN:VCALENDAR
VERSION:2.0
PRODID:-//NetAuktion//NONSGML NetAuktion//SV
METHOD:PUBLISH
BEGIN:VEVENT
UID:20260421T104536-61896155-netauktion.se
DTSTAMP:20260421T104536
DTSTART:20171222T040900
DTEND:20171222T041200
SUMMARY:Netauktion objekt 2960-134 Auktionspåminnelse
DESCRIPTION:Länk till objektet du var intresserad av: https://staging.netauktion.se/auktion/produkt/hitachi-batteripack-bl36200-36v-21ah-18
END:VEVENT
END:VCALENDAR
