BEGIN:VCALENDAR
VERSION:2.0
PRODID:-//NetAuktion//NONSGML NetAuktion//SV
METHOD:PUBLISH
BEGIN:VEVENT
UID:20260421T104450-28197508-netauktion.se
DTSTAMP:20260421T104450
DTSTART:20170531T010600
DTEND:20170531T010900
SUMMARY:Netauktion objekt 2955-002 Auktionspåminnelse
DESCRIPTION:Länk till objektet du var intresserad av: https://staging.netauktion.se/auktion/produkt/amerigo-skydd
END:VEVENT
END:VCALENDAR
