BEGIN:VCALENDAR
VERSION:2.0
PRODID:-//NetAuktion//NONSGML NetAuktion//SV
METHOD:PUBLISH
BEGIN:VEVENT
UID:20260421T104559-1903800457-netauktion.se
DTSTAMP:20260421T104559
DTSTART:20170531T011300
DTEND:20170531T011600
SUMMARY:Netauktion objekt 2955-006 Auktionspåminnelse
DESCRIPTION:Länk till objektet du var intresserad av: https://staging.netauktion.se/auktion/produkt/sadel-sadelgjord-amerigo
END:VEVENT
END:VCALENDAR
