BEGIN:VCALENDAR
VERSION:2.0
PRODID:-//NetAuktion//NONSGML NetAuktion//SV
METHOD:PUBLISH
BEGIN:VEVENT
UID:20260421T104618-415149593-netauktion.se
DTSTAMP:20260421T104618
DTSTART:20170731T020100
DTEND:20170731T020400
SUMMARY:Netauktion objekt 3054-002 Auktionspåminnelse
DESCRIPTION:Länk till objektet du var intresserad av: https://staging.netauktion.se/auktion/produkt/utombordare-mercury-65hk-kort-rigg
END:VEVENT
END:VCALENDAR
