BEGIN:VCALENDAR
VERSION:2.0
PRODID:-//NetAuktion//NONSGML NetAuktion//SV
METHOD:PUBLISH
BEGIN:VEVENT
UID:20260421T102640-1237520289-netauktion.se
DTSTAMP:20260421T102640
DTSTART:20080731T010700
DTEND:20080731T011000
SUMMARY:Netauktion objekt 0017-731 Auktionspåminnelse
DESCRIPTION:Länk till objektet du var intresserad av: https://staging.netauktion.se/auktion/produkt/1-st-batratt-2
END:VEVENT
END:VCALENDAR
