BEGIN:VCALENDAR
VERSION:2.0
PRODID:-//NetAuktion//NONSGML NetAuktion//SV
METHOD:PUBLISH
BEGIN:VEVENT
UID:20260421T104534-822926718-netauktion.se
DTSTAMP:20260421T104534
DTSTART:20170630T014900
DTEND:20170630T015200
SUMMARY:Netauktion objekt 3075-022 Auktionspåminnelse
DESCRIPTION:Länk till objektet du var intresserad av: https://staging.netauktion.se/auktion/produkt/espressomaskin-16
END:VEVENT
END:VCALENDAR
