BEGIN:VCALENDAR
VERSION:2.0
PRODID:-//NetAuktion//NONSGML NetAuktion//SV
METHOD:PUBLISH
BEGIN:VEVENT
UID:20260421T104316-529138178-netauktion.se
DTSTAMP:20260421T104316
DTSTART:20080829T015700
DTEND:20080829T020000
SUMMARY:Netauktion objekt 0085-001 Auktionspåminnelse
DESCRIPTION:Länk till objektet du var intresserad av: https://staging.netauktion.se/auktion/produkt/konferensbord-med-6st-stolar
END:VEVENT
END:VCALENDAR
