BEGIN:VCALENDAR
VERSION:2.0
PRODID:-//NetAuktion//NONSGML NetAuktion//SV
METHOD:PUBLISH
BEGIN:VEVENT
UID:20260421T104451-935902660-netauktion.se
DTSTAMP:20260421T104451
DTSTART:20170630T014500
DTEND:20170630T014800
SUMMARY:Netauktion objekt 3075-027 Auktionspåminnelse
DESCRIPTION:Länk till objektet du var intresserad av: https://staging.netauktion.se/auktion/produkt/kassadisk-42
END:VEVENT
END:VCALENDAR
