BEGIN:VCALENDAR
VERSION:2.0
PRODID:-//NetAuktion//NONSGML NetAuktion//SV
METHOD:PUBLISH
BEGIN:VEVENT
UID:20260421T103004-165207978-netauktion.se
DTSTAMP:20260421T103004
DTSTART:20170630T020600
DTEND:20170630T020900
SUMMARY:Netauktion objekt 3075-032 Auktionspåminnelse
DESCRIPTION:Länk till objektet du var intresserad av: https://staging.netauktion.se/auktion/produkt/12st-nya-stolar
END:VEVENT
END:VCALENDAR
