BEGIN:VCALENDAR
VERSION:2.0
PRODID:-//NetAuktion//NONSGML NetAuktion//SV
METHOD:PUBLISH
BEGIN:VEVENT
UID:20260421T104532-335595933-netauktion.se
DTSTAMP:20260421T104532
DTSTART:20170630T020100
DTEND:20170630T020400
SUMMARY:Netauktion objekt 3075-039 Auktionspåminnelse
DESCRIPTION:Länk till objektet du var intresserad av: https://staging.netauktion.se/auktion/produkt/sjorovare-playmobil
END:VEVENT
END:VCALENDAR
