BEGIN:VCALENDAR
VERSION:2.0
PRODID:-//NetAuktion//NONSGML NetAuktion//SV
METHOD:PUBLISH
BEGIN:VEVENT
UID:20260421T104605-1827278810-netauktion.se
DTSTAMP:20260421T104605
DTSTART:20170630T022300
DTEND:20170630T022600
SUMMARY:Netauktion objekt 3088-009 Auktionspåminnelse
DESCRIPTION:Länk till objektet du var intresserad av: https://staging.netauktion.se/auktion/produkt/laddare-12v-3
END:VEVENT
END:VCALENDAR
