BEGIN:VCALENDAR
VERSION:2.0
PRODID:-//NetAuktion//NONSGML NetAuktion//SV
METHOD:PUBLISH
BEGIN:VEVENT
UID:20260421T102954-919771962-netauktion.se
DTSTAMP:20260421T102954
DTSTART:20170928T022500
DTEND:20170928T022800
SUMMARY:Netauktion objekt 2758-021 Auktionspåminnelse
DESCRIPTION:Länk till objektet du var intresserad av: https://staging.netauktion.se/auktion/produkt/ca-260st-hss-borr-fran-berner-1-12mm
END:VEVENT
END:VCALENDAR
