BEGIN:VCALENDAR
VERSION:2.0
PRODID:-//NetAuktion//NONSGML NetAuktion//SV
METHOD:PUBLISH
BEGIN:VEVENT
UID:20260421T104633-664819227-netauktion.se
DTSTAMP:20260421T104633
DTSTART:20180831T025800
DTEND:20180831T030100
SUMMARY:Netauktion objekt 2758-030 Auktionspåminnelse
DESCRIPTION:Länk till objektet du var intresserad av: https://staging.netauktion.se/auktion/produkt/ca450st-hss-borr-fran-berner-1-5mm-6
END:VEVENT
END:VCALENDAR
