BEGIN:VCALENDAR
VERSION:2.0
PRODID:-//NetAuktion//NONSGML NetAuktion//SV
METHOD:PUBLISH
BEGIN:VEVENT
UID:20260421T104634-65742924-netauktion.se
DTSTAMP:20260421T104634
DTSTART:20170630T024700
DTEND:20170630T025000
SUMMARY:Netauktion objekt 3093-001 Auktionspåminnelse
DESCRIPTION:Länk till objektet du var intresserad av: https://staging.netauktion.se/auktion/produkt/kvalitets-sockor-3100-par
END:VEVENT
END:VCALENDAR
