BEGIN:VCALENDAR
VERSION:2.0
PRODID:-//NetAuktion//NONSGML NetAuktion//SV
METHOD:PUBLISH
BEGIN:VEVENT
UID:20260421T104620-1751936664-netauktion.se
DTSTAMP:20260421T104620
DTSTART:20170630T024600
DTEND:20170630T024900
SUMMARY:Netauktion objekt 3094-002 Auktionspåminnelse
DESCRIPTION:Länk till objektet du var intresserad av: https://staging.netauktion.se/auktion/produkt/utegrupp-i-vit-konstrotting-6
END:VEVENT
END:VCALENDAR
