BEGIN:VCALENDAR
VERSION:2.0
PRODID:-//NetAuktion//NONSGML NetAuktion//SV
METHOD:PUBLISH
BEGIN:VEVENT
UID:20260421T104443-1606642099-netauktion.se
DTSTAMP:20260421T104443
DTSTART:20180330T040800
DTEND:20180330T041100
SUMMARY:Netauktion objekt 2897-008 Auktionspåminnelse
DESCRIPTION:Länk till objektet du var intresserad av: https://staging.netauktion.se/auktion/produkt/kylmonterdisplay-for-kakor-tartor
END:VEVENT
END:VCALENDAR
