BEGIN:VCALENDAR
VERSION:2.0
PRODID:-//NetAuktion//NONSGML NetAuktion//SV
METHOD:PUBLISH
BEGIN:VEVENT
UID:20260421T104426-2082784675-netauktion.se
DTSTAMP:20260421T104426
DTSTART:20080829T020400
DTEND:20080829T020700
SUMMARY:Netauktion objekt 0085-008 Auktionspåminnelse
DESCRIPTION:Länk till objektet du var intresserad av: https://staging.netauktion.se/auktion/produkt/nibe-pool-11-div-verktyg-mm
END:VEVENT
END:VCALENDAR
