BEGIN:VCALENDAR
VERSION:2.0
PRODID:-//NetAuktion//NONSGML NetAuktion//SV
METHOD:PUBLISH
BEGIN:VEVENT
UID:20260421T104459-398119880-netauktion.se
DTSTAMP:20260421T104459
DTSTART:20170731T012200
DTEND:20170731T012500
SUMMARY:Netauktion objekt 2703-008 Auktionspåminnelse
DESCRIPTION:Länk till objektet du var intresserad av: https://staging.netauktion.se/auktion/produkt/asiatisk-porslin-5-delar
END:VEVENT
END:VCALENDAR
