BEGIN:VCALENDAR
VERSION:2.0
PRODID:-//NetAuktion//NONSGML NetAuktion//SV
METHOD:PUBLISH
BEGIN:VEVENT
UID:20260421T104607-464341810-netauktion.se
DTSTAMP:20260421T104607
DTSTART:20170731T011500
DTEND:20170731T011800
SUMMARY:Netauktion objekt 3119-020 Auktionspåminnelse
DESCRIPTION:Länk till objektet du var intresserad av: https://staging.netauktion.se/auktion/produkt/mossrivare-5
END:VEVENT
END:VCALENDAR
