BEGIN:VCALENDAR
VERSION:2.0
PRODID:-//NetAuktion//NONSGML NetAuktion//SV
METHOD:PUBLISH
BEGIN:VEVENT
UID:20260421T103236-1620045320-netauktion.se
DTSTAMP:20260421T103236
DTSTART:20170731T012200
DTEND:20170731T012500
SUMMARY:Netauktion objekt 3119-033 Auktionspåminnelse
DESCRIPTION:Länk till objektet du var intresserad av: https://staging.netauktion.se/auktion/produkt/toalettstol-4-2
END:VEVENT
END:VCALENDAR
