BEGIN:VCALENDAR
VERSION:2.0
PRODID:-//NetAuktion//NONSGML NetAuktion//SV
METHOD:PUBLISH
BEGIN:VEVENT
UID:20260421T102706-734324442-netauktion.se
DTSTAMP:20260421T102706
DTSTART:20080919T014000
DTEND:20080919T014300
SUMMARY:Netauktion objekt 0085-010 Auktionspåminnelse
DESCRIPTION:Länk till objektet du var intresserad av: https://staging.netauktion.se/auktion/produkt/koksbord-kaffebryggare-cafebord-mm
END:VEVENT
END:VCALENDAR
