BEGIN:VCALENDAR
VERSION:2.0
PRODID:-//NetAuktion//NONSGML NetAuktion//SV
METHOD:PUBLISH
BEGIN:VEVENT
UID:20260421T103127-332939905-netauktion.se
DTSTAMP:20260421T103127
DTSTART:20170731T020300
DTEND:20170731T020600
SUMMARY:Netauktion objekt 3123-002 Auktionspåminnelse
DESCRIPTION:Länk till objektet du var intresserad av: https://staging.netauktion.se/auktion/produkt/laddningsbar-grastrimmer-hacksax-mm
END:VEVENT
END:VCALENDAR
