BEGIN:VCALENDAR
VERSION:2.0
PRODID:-//NetAuktion//NONSGML NetAuktion//SV
METHOD:PUBLISH
BEGIN:VEVENT
UID:20260421T103127-1339278146-netauktion.se
DTSTAMP:20260421T103127
DTSTART:20170731T015100
DTEND:20170731T015400
SUMMARY:Netauktion objekt 3123-006 Auktionspåminnelse
DESCRIPTION:Länk till objektet du var intresserad av: https://staging.netauktion.se/auktion/produkt/skivspelare-och-hogtalare
END:VEVENT
END:VCALENDAR
