BEGIN:VCALENDAR
VERSION:2.0
PRODID:-//NetAuktion//NONSGML NetAuktion//SV
METHOD:PUBLISH
BEGIN:VEVENT
UID:20260421T104623-1491042060-netauktion.se
DTSTAMP:20260421T104623
DTSTART:20170731T020000
DTEND:20170731T020300
SUMMARY:Netauktion objekt 3123-012 Auktionspåminnelse
DESCRIPTION:Länk till objektet du var intresserad av: https://staging.netauktion.se/auktion/produkt/hundbur-for-bil-och-transportvaska
END:VEVENT
END:VCALENDAR
