BEGIN:VCALENDAR
VERSION:2.0
PRODID:-//NetAuktion//NONSGML NetAuktion//SV
METHOD:PUBLISH
BEGIN:VEVENT
UID:20260421T102833-251703885-netauktion.se
DTSTAMP:20260421T102833
DTSTART:20080829T021100
DTEND:20080829T021400
SUMMARY:Netauktion objekt 0085-013 Auktionspåminnelse
DESCRIPTION:Länk till objektet du var intresserad av: https://staging.netauktion.se/auktion/produkt/barbar-dator-fujitsu-siemens-amilo-pa2510
END:VEVENT
END:VCALENDAR
