BEGIN:VCALENDAR
VERSION:2.0
PRODID:-//NetAuktion//NONSGML NetAuktion//SV
METHOD:PUBLISH
BEGIN:VEVENT
UID:20260421T104615-250705139-netauktion.se
DTSTAMP:20260421T104615
DTSTART:20170928T023300
DTEND:20170928T023600
SUMMARY:Netauktion objekt 2758-036 Auktionspåminnelse
DESCRIPTION:Länk till objektet du var intresserad av: https://staging.netauktion.se/auktion/produkt/ca430st-spiralborr-fran-berner-2-4mm
END:VEVENT
END:VCALENDAR
