BEGIN:VCALENDAR
VERSION:2.0
PRODID:-//NetAuktion//NONSGML NetAuktion//SV
METHOD:PUBLISH
BEGIN:VEVENT
UID:20260421T104632-1236587012-netauktion.se
DTSTAMP:20260421T104632
DTSTART:20180831T025500
DTEND:20180831T025800
SUMMARY:Netauktion objekt 2758-041 Auktionspåminnelse
DESCRIPTION:Länk till objektet du var intresserad av: https://staging.netauktion.se/auktion/produkt/ca430st-spiralborr-fran-berner-2-4mm-6
END:VEVENT
END:VCALENDAR
