BEGIN:VCALENDAR
VERSION:2.0
PRODID:-//NetAuktion//NONSGML NetAuktion//SV
METHOD:PUBLISH
BEGIN:VEVENT
UID:20260421T104605-1585814920-netauktion.se
DTSTAMP:20260421T104605
DTSTART:20180831T030400
DTEND:20180831T030700
SUMMARY:Netauktion objekt 2758-072 Auktionspåminnelse
DESCRIPTION:Länk till objektet du var intresserad av: https://staging.netauktion.se/auktion/produkt/ca460st-spiralborr-fran-berner-60mm
END:VEVENT
END:VCALENDAR
