BEGIN:VCALENDAR
VERSION:2.0
PRODID:-//NetAuktion//NONSGML NetAuktion//SV
METHOD:PUBLISH
BEGIN:VEVENT
UID:20260421T104426-2127720236-netauktion.se
DTSTAMP:20260421T104426
DTSTART:20090930T030700
DTEND:20090930T031000
SUMMARY:Netauktion objekt 0361-113 Auktionspåminnelse
DESCRIPTION:Länk till objektet du var intresserad av: https://staging.netauktion.se/auktion/produkt/arbetsbank-4
END:VEVENT
END:VCALENDAR
