BEGIN:VCALENDAR
VERSION:2.0
PRODID:-//NetAuktion//NONSGML NetAuktion//SV
METHOD:PUBLISH
BEGIN:VEVENT
UID:20260421T102933-1250105418-netauktion.se
DTSTAMP:20260421T102933
DTSTART:20170928T024500
DTEND:20170928T024800
SUMMARY:Netauktion objekt 2758-097 Auktionspåminnelse
DESCRIPTION:Länk till objektet du var intresserad av: https://staging.netauktion.se/auktion/produkt/ca29st-hss-spiralborr-135-165mm
END:VEVENT
END:VCALENDAR
