BEGIN:VCALENDAR
VERSION:2.0
PRODID:-//NetAuktion//NONSGML NetAuktion//SV
METHOD:PUBLISH
BEGIN:VEVENT
UID:20260421T104458-1713478780-netauktion.se
DTSTAMP:20260421T104458
DTSTART:20170928T024700
DTEND:20170928T025000
SUMMARY:Netauktion objekt 2758-101 Auktionspåminnelse
DESCRIPTION:Länk till objektet du var intresserad av: https://staging.netauktion.se/auktion/produkt/ca22st-hss-spiralborr-160-200mm
END:VEVENT
END:VCALENDAR
