BEGIN:VCALENDAR
VERSION:2.0
PRODID:-//NetAuktion//NONSGML NetAuktion//SV
METHOD:PUBLISH
BEGIN:VEVENT
UID:20260421T104604-1720532150-netauktion.se
DTSTAMP:20260421T104604
DTSTART:20180831T030800
DTEND:20180831T031100
SUMMARY:Netauktion objekt 2758-114 Auktionspåminnelse
DESCRIPTION:Länk till objektet du var intresserad av: https://staging.netauktion.se/auktion/produkt/ca370st-hss-spiralborr-41-47mm
END:VEVENT
END:VCALENDAR
